BEGIN:VCALENDAR
VERSION:2.0
PRODID:-//BOSENHEIM - ECPv6.15.20//NONSGML v1.0//EN
CALSCALE:GREGORIAN
METHOD:PUBLISH
X-ORIGINAL-URL:https://bosenheim.de
X-WR-CALDESC:Veranstaltungen für BOSENHEIM
REFRESH-INTERVAL;VALUE=DURATION:PT1H
X-Robots-Tag:noindex
X-PUBLISHED-TTL:PT1H
BEGIN:VTIMEZONE
TZID:Europe/Berlin
BEGIN:DAYLIGHT
TZOFFSETFROM:+0100
TZOFFSETTO:+0200
TZNAME:CEST
DTSTART:20250330T010000
END:DAYLIGHT
BEGIN:STANDARD
TZOFFSETFROM:+0200
TZOFFSETTO:+0100
TZNAME:CET
DTSTART:20251026T010000
END:STANDARD
BEGIN:DAYLIGHT
TZOFFSETFROM:+0100
TZOFFSETTO:+0200
TZNAME:CEST
DTSTART:20260329T010000
END:DAYLIGHT
BEGIN:STANDARD
TZOFFSETFROM:+0200
TZOFFSETTO:+0100
TZNAME:CET
DTSTART:20261025T010000
END:STANDARD
BEGIN:DAYLIGHT
TZOFFSETFROM:+0100
TZOFFSETTO:+0200
TZNAME:CEST
DTSTART:20270328T010000
END:DAYLIGHT
BEGIN:STANDARD
TZOFFSETFROM:+0200
TZOFFSETTO:+0100
TZNAME:CET
DTSTART:20271031T010000
END:STANDARD
BEGIN:DAYLIGHT
TZOFFSETFROM:+0100
TZOFFSETTO:+0200
TZNAME:CEST
DTSTART:20280326T010000
END:DAYLIGHT
BEGIN:STANDARD
TZOFFSETFROM:+0200
TZOFFSETTO:+0100
TZNAME:CET
DTSTART:20281029T010000
END:STANDARD
END:VTIMEZONE
BEGIN:VEVENT
DTSTART;TZID=Europe/Berlin:20261224T160000
DTEND;TZID=Europe/Berlin:20261224T160000
DTSTAMP:20260421T152847
CREATED:20260224T205327Z
LAST-MODIFIED:20260224T205327Z
UID:2196-1798128000-1798128000@bosenheim.de
SUMMARY:Weihnachtsrundgang
DESCRIPTION:
URL:https://bosenheim.de/event/weihnachtsrundgang-2/
CATEGORIES:Kirche
END:VEVENT
BEGIN:VEVENT
DTSTART;TZID=Europe/Berlin:20270109T090000
DTEND;TZID=Europe/Berlin:20270109T090000
DTSTAMP:20260421T152847
CREATED:20260224T205028Z
LAST-MODIFIED:20260224T205028Z
UID:2198-1799485200-1799485200@bosenheim.de
SUMMARY:Abholen der Weihnachtsbäume
DESCRIPTION:
URL:https://bosenheim.de/event/abholen-der-weihnachtsbaeume-2/
CATEGORIES:Gemeinschaft
END:VEVENT
END:VCALENDAR