BEGIN:VCALENDAR
VERSION:2.0
PRODID:-//BOSENHEIM - ECPv6.15.20//NONSGML v1.0//EN
CALSCALE:GREGORIAN
METHOD:PUBLISH
X-ORIGINAL-URL:https://bosenheim.de
X-WR-CALDESC:Veranstaltungen für BOSENHEIM
REFRESH-INTERVAL;VALUE=DURATION:PT1H
X-Robots-Tag:noindex
X-PUBLISHED-TTL:PT1H
BEGIN:VTIMEZONE
TZID:Europe/Berlin
BEGIN:DAYLIGHT
TZOFFSETFROM:+0100
TZOFFSETTO:+0200
TZNAME:CEST
DTSTART:20250330T010000
END:DAYLIGHT
BEGIN:STANDARD
TZOFFSETFROM:+0200
TZOFFSETTO:+0100
TZNAME:CET
DTSTART:20251026T010000
END:STANDARD
BEGIN:DAYLIGHT
TZOFFSETFROM:+0100
TZOFFSETTO:+0200
TZNAME:CEST
DTSTART:20260329T010000
END:DAYLIGHT
BEGIN:STANDARD
TZOFFSETFROM:+0200
TZOFFSETTO:+0100
TZNAME:CET
DTSTART:20261025T010000
END:STANDARD
BEGIN:DAYLIGHT
TZOFFSETFROM:+0100
TZOFFSETTO:+0200
TZNAME:CEST
DTSTART:20270328T010000
END:DAYLIGHT
BEGIN:STANDARD
TZOFFSETFROM:+0200
TZOFFSETTO:+0100
TZNAME:CET
DTSTART:20271031T010000
END:STANDARD
END:VTIMEZONE
BEGIN:VEVENT
DTSTART;TZID=Europe/Berlin:20260422T180000
DTEND;TZID=Europe/Berlin:20260422T210000
DTSTAMP:20260422T102034
CREATED:20260224T212934Z
LAST-MODIFIED:20260224T212934Z
UID:2133-1776880800-1776891600@bosenheim.de
SUMMARY:Feierabendschoppen im Gemeindehaus
DESCRIPTION:
URL:https://bosenheim.de/event/feierabendschoppen-im-gemeindehaus-6/
LOCATION:Gemeindehaus Bosenheim\, Raiffeisenstraße 1\, Bad Kreuznach\, 55545\, Deutschland
CATEGORIES:Gemeinschaft
END:VEVENT
BEGIN:VEVENT
DTSTART;TZID=Europe/Berlin:20260425T160000
DTEND;TZID=Europe/Berlin:20260425T160000
DTSTAMP:20260422T102034
CREATED:20260224T212912Z
LAST-MODIFIED:20260224T212912Z
UID:2134-1777132800-1777132800@bosenheim.de
SUMMARY:Hoffrühling
DESCRIPTION:
URL:https://bosenheim.de/event/hoffruehling/
LOCATION:Weingut Lorenz und Söhne\, Rheinhessenstraße 87\, Bad Kreuznach\, 55545\, Deutschland
CATEGORIES:Wein
ORGANIZER;CN="Weingut Lorenz & S%C3%B6hne":MAILTO:info@bonnheimerhof.com
END:VEVENT
BEGIN:VEVENT
DTSTART;TZID=Europe/Berlin:20260426T100000
DTEND;TZID=Europe/Berlin:20260426T100000
DTSTAMP:20260422T102034
CREATED:20260224T212850Z
LAST-MODIFIED:20260224T212850Z
UID:2135-1777197600-1777197600@bosenheim.de
SUMMARY:Konfirmation
DESCRIPTION:
URL:https://bosenheim.de/event/konfirmation-2/
LOCATION:Martinskirche\, Karl-Sack-Straße 4\, Bad Kreuznach\, 55545
CATEGORIES:Kirche
END:VEVENT
BEGIN:VEVENT
DTSTART;TZID=Europe/Berlin:20260426T120000
DTEND;TZID=Europe/Berlin:20260426T180000
DTSTAMP:20260422T102034
CREATED:20260224T212758Z
LAST-MODIFIED:20260422T051552Z
UID:2136-1777204800-1777226400@bosenheim.de
SUMMARY:KORRELL OPEN MIT JAHRGANGSPRÄSENTATION
DESCRIPTION:Veranstaltungsort: Görzstraße 7\, Bad Kreuznach-Bosenheim\nDatum: Sonntag\, 26. April 2026\nUhrzeit: 12 bis 18 Uhr\n\nWir öffnen nicht nur das Weingut\, sondern auch das Paradies-Haus zu „Korrell OPEN“\n\nDort verkosten Sie mit genialem Blick auf Bad Kreuznach die neuen Weine. Im Garten gibt es Sekt und Champagner\, frische Austern von der Sylter Austerncompagnie sowie eine exzellente Bewirtung durch das Team des neuen Restaurants „Cesar & Morian“. Danach können Sie im Weingut die Weine einkaufen\, die Ihnen am besten gefallen haben. Als „Dessert“ erwartet Sie noch eine kleine Überraschung aus großen Flaschen.\n\n19 € p.P. für die Verkostung der Weine. Speisen\, Sekt und Champagner werden extra berechnet.\n10 € werden bei Weineinkauf am gleichen Tag in Abzug gebracht.\n\nWir freuen uns auf Ihren Besuch!\n\nP.S.: Für die Austern bitten wir um Vorbestellung bis 20.04.26\n\nZu den Tickets: https://www.korrell.com/products/korrell-open-sonntag-26-04-2026 
URL:https://bosenheim.de/event/jahrgangspraesentation/
LOCATION:Weingut Korrell\, Görzstraße 7\, Bad Kreuznach\, 55545\, Deutschland
CATEGORIES:Wein
ORGANIZER;CN="Weingut Korrell":MAILTO:weingut@korrell.com
END:VEVENT
END:VCALENDAR