BEGIN:VCALENDAR
VERSION:2.0
PRODID:-//BOSENHEIM - ECPv6.15.20//NONSGML v1.0//EN
CALSCALE:GREGORIAN
METHOD:PUBLISH
X-ORIGINAL-URL:https://bosenheim.de
X-WR-CALDESC:Veranstaltungen für BOSENHEIM
REFRESH-INTERVAL;VALUE=DURATION:PT1H
X-Robots-Tag:noindex
X-PUBLISHED-TTL:PT1H
BEGIN:VTIMEZONE
TZID:Europe/Berlin
BEGIN:DAYLIGHT
TZOFFSETFROM:+0100
TZOFFSETTO:+0200
TZNAME:CEST
DTSTART:20250330T010000
END:DAYLIGHT
BEGIN:STANDARD
TZOFFSETFROM:+0200
TZOFFSETTO:+0100
TZNAME:CET
DTSTART:20251026T010000
END:STANDARD
BEGIN:DAYLIGHT
TZOFFSETFROM:+0100
TZOFFSETTO:+0200
TZNAME:CEST
DTSTART:20260329T010000
END:DAYLIGHT
BEGIN:STANDARD
TZOFFSETFROM:+0200
TZOFFSETTO:+0100
TZNAME:CET
DTSTART:20261025T010000
END:STANDARD
BEGIN:DAYLIGHT
TZOFFSETFROM:+0100
TZOFFSETTO:+0200
TZNAME:CEST
DTSTART:20270328T010000
END:DAYLIGHT
BEGIN:STANDARD
TZOFFSETFROM:+0200
TZOFFSETTO:+0100
TZNAME:CET
DTSTART:20271031T010000
END:STANDARD
END:VTIMEZONE
BEGIN:VEVENT
DTSTART;TZID=Europe/Berlin:20260801T150000
DTEND;TZID=Europe/Berlin:20260801T220000
DTSTAMP:20260422T114029
CREATED:20260224T211440Z
LAST-MODIFIED:20260224T211440Z
UID:2164-1785596400-1785621600@bosenheim.de
SUMMARY:Nahegelage – Open-Air-Weinrock & Picknick im Salinental
DESCRIPTION:
URL:https://bosenheim.de/event/nahegelage-open-air-weinrock-picknick-im-salinental/
LOCATION:Rheinland-Pfalz
CATEGORIES:Musik
END:VEVENT
BEGIN:VEVENT
DTSTART;TZID=Europe/Berlin:20260805T150000
DTEND;TZID=Europe/Berlin:20260805T150000
DTSTAMP:20260422T114029
CREATED:20260224T211416Z
LAST-MODIFIED:20260224T211416Z
UID:2165-1785942000-1785942000@bosenheim.de
SUMMARY:Frauenkreis im Katharinenstift
DESCRIPTION:
URL:https://bosenheim.de/event/frauenkreis-im-katharinenstift-15/
LOCATION:Rheinland-Pfalz
CATEGORIES:Gemeinschaft
END:VEVENT
BEGIN:VEVENT
DTSTART;TZID=Europe/Berlin:20260805T181500
DTEND;TZID=Europe/Berlin:20260805T181500
DTSTAMP:20260422T114029
CREATED:20260224T211408Z
LAST-MODIFIED:20260224T211408Z
UID:2166-1785953700-1785953700@bosenheim.de
SUMMARY:Spieleabend für Erwachsene im Gemeindehaus
DESCRIPTION:
URL:https://bosenheim.de/event/spieleabend-fuer-erwachsene-im-gemeindehaus-5/
LOCATION:Gemeindehaus Bosenheim\, Raiffeisenstraße 1\, Bad Kreuznach\, 55545\, Deutschland
CATEGORIES:Gemeinschaft
END:VEVENT
BEGIN:VEVENT
DTSTART;TZID=Europe/Berlin:20260808T100000
DTEND;TZID=Europe/Berlin:20260808T130000
DTSTAMP:20260422T114029
CREATED:20260421T060109Z
LAST-MODIFIED:20260421T062403Z
UID:2353-1786183200-1786194000@bosenheim.de
SUMMARY:Selbstverteidigungs-Workshop für Jugendliche
DESCRIPTION:Bärenstark fürs Leben\n\nFür Jugendliche ab 11 Jahren bietet Marcel einen intensiven Selbstverteidigungs-Workshop\, der weit über reine Kampftechniken hinausgeht. Im Mittelpunkt stehen Grenzen setzen\, gewaltfreie Kommunikation und konkrete Selbstverteidigungstechniken für den Ernstfall. \n\n\nIn drei praxisnahen Stunden lernen die Teilnehmenden\, Gefahrensituationen frühzeitig zu erkennen und selbstsicher zu reagieren – körperlich wie verbal. Ein Workshop\, der Stärke aufbaut und nachhaltig wirkt. \n\n\n\n\n\n📅 Datum: Samstag\, 08. August 2026\n🕙 Uhrzeit: 10:00 – 13:00 Uhr\n📍 Ort: Bosenheimer Schwimmbadgelände\n💶 Preis: 10 € pro Teilnehmer*in\n🧑 Alter: 11 bis 18 Jahre\n\n👟 Kleidung: Bitte Sportkleidung mitbringen \n💚 Der Förderverein unterstützt: 10 € pro Teilnehmer werden gesponsort – ihr zahlt nur den Eigenanteil! \n\n\n\n📩 Platz reservieren: baerenstark-fuers-leben@gmx.de
URL:https://bosenheim.de/event/selbstverteidigungs-workshop-fuer-jugendliche/
LOCATION:Schwimmbad Bosenheim\, Am Sportfeld 5\, Bad Kreuznach\, Rheinland-Pfalz\, 55545
END:VEVENT
BEGIN:VEVENT
DTSTART;TZID=Europe/Berlin:20260813T150000
DTEND;TZID=Europe/Berlin:20260813T160000
DTSTAMP:20260422T114029
CREATED:20260421T061630Z
LAST-MODIFIED:20260421T062513Z
UID:2371-1786633200-1786636800@bosenheim.de
SUMMARY:Strandbild mit Strukturpaste – Basteln mit Aylin
DESCRIPTION:Kletteraff X Creative\n\nWellen\, Sand und Meeresrauschen – direkt aufs Bild gebracht! Beim Strandbild-Strukturpaste-Workshop erschaffen Kinder ab 5 Jahren ihr eigenes dreidimensionales Strandpanorama mit echter Strukturpaste. Das Ergebnis: ein echtes Kunstwerk zum Aufhängen und Bewundern. \n\n\nEin tolles Highlight zum Abschluss des Sommer-Programms! Alle Materialien sind inklusive. \n\n\n\n📅 Datum: Donnerstag\, 13. August 2026\n🕙 Uhrzeit: 15:00 Uhr\n📍 Ort: Bosenheimer Schwimmbadgelände\n💶 Preis: 15 € pro Kind (inkl. Material)\n👧 Alter: ab 5 Jahren\n💚 Der Förderverein unterstützt: zusätzlich 10 € pro Kind werden gesponsort!\n\n📩 Platz reservieren: a.guckert@kletteraff.de\n\n\n\nÄltere Kinder und Jugendliche dürfen ebenfalls mitmachen!
URL:https://bosenheim.de/event/strandbild-mit-strukturpaste-basteln-mit-aylin/
LOCATION:Schwimmbad Bosenheim\, Am Sportfeld 5\, Bad Kreuznach\, Rheinland-Pfalz\, 55545
END:VEVENT
BEGIN:VEVENT
DTSTART;TZID=Europe/Berlin:20260819T150000
DTEND;TZID=Europe/Berlin:20260819T150000
DTSTAMP:20260422T114029
CREATED:20260224T211316Z
LAST-MODIFIED:20260224T211316Z
UID:2167-1787151600-1787151600@bosenheim.de
SUMMARY:Dorfcafé im TuS Häuschen
DESCRIPTION:
URL:https://bosenheim.de/event/dorfcafe-im-tus-haeuschen-12/
LOCATION:TuS-Heim\, Bosenheim\, 55545
CATEGORIES:Gemeinschaft
END:VEVENT
BEGIN:VEVENT
DTSTART;VALUE=DATE:20260821
DTEND;VALUE=DATE:20260826
DTSTAMP:20260422T114029
CREATED:20260224T211300Z
LAST-MODIFIED:20260224T211300Z
UID:2168-1787270400-1787702399@bosenheim.de
SUMMARY:Jahrmarkt – NaheWEINzelt
DESCRIPTION:
URL:https://bosenheim.de/event/jahrmarkt-naheweinzelt/
LOCATION:Rheinland-Pfalz
CATEGORIES:Fest
END:VEVENT
BEGIN:VEVENT
DTSTART;TZID=Europe/Berlin:20260826T180000
DTEND;TZID=Europe/Berlin:20260826T180000
DTSTAMP:20260422T114029
CREATED:20260224T211106Z
LAST-MODIFIED:20260224T211106Z
UID:2169-1787767200-1787767200@bosenheim.de
SUMMARY:Feierabendschoppen im Schwimmbad
DESCRIPTION:
URL:https://bosenheim.de/event/feierabendschoppen-im-schwimmbad-5/
LOCATION:Schwimmbad Bosenheim\, Am Sportfeld 5\, Bad Kreuznach\, Rheinland-Pfalz\, 55545
CATEGORIES:Gemeinschaft
END:VEVENT
END:VCALENDAR