BEGIN:VCALENDAR
VERSION:2.0
PRODID:-//BOSENHEIM - ECPv6.15.20//NONSGML v1.0//EN
CALSCALE:GREGORIAN
METHOD:PUBLISH
X-ORIGINAL-URL:https://bosenheim.de
X-WR-CALDESC:Veranstaltungen für BOSENHEIM
REFRESH-INTERVAL;VALUE=DURATION:PT1H
X-Robots-Tag:noindex
X-PUBLISHED-TTL:PT1H
BEGIN:VTIMEZONE
TZID:Europe/Berlin
BEGIN:DAYLIGHT
TZOFFSETFROM:+0100
TZOFFSETTO:+0200
TZNAME:CEST
DTSTART:20250330T010000
END:DAYLIGHT
BEGIN:STANDARD
TZOFFSETFROM:+0200
TZOFFSETTO:+0100
TZNAME:CET
DTSTART:20251026T010000
END:STANDARD
BEGIN:DAYLIGHT
TZOFFSETFROM:+0100
TZOFFSETTO:+0200
TZNAME:CEST
DTSTART:20260329T010000
END:DAYLIGHT
BEGIN:STANDARD
TZOFFSETFROM:+0200
TZOFFSETTO:+0100
TZNAME:CET
DTSTART:20261025T010000
END:STANDARD
BEGIN:DAYLIGHT
TZOFFSETFROM:+0100
TZOFFSETTO:+0200
TZNAME:CEST
DTSTART:20270328T010000
END:DAYLIGHT
BEGIN:STANDARD
TZOFFSETFROM:+0200
TZOFFSETTO:+0100
TZNAME:CET
DTSTART:20271031T010000
END:STANDARD
END:VTIMEZONE
BEGIN:VEVENT
DTSTART;TZID=Europe/Berlin:20260603T150000
DTEND;TZID=Europe/Berlin:20260603T150000
DTSTAMP:20260421T102043
CREATED:20260224T212255Z
LAST-MODIFIED:20260224T212255Z
UID:2146-1780498800-1780498800@bosenheim.de
SUMMARY:Frauenkreis im Katharinenstift
DESCRIPTION:
URL:https://bosenheim.de/event/frauenkreis-im-katharinenstift-17/
LOCATION:Rheinland-Pfalz
CATEGORIES:Gemeinschaft
END:VEVENT
BEGIN:VEVENT
DTSTART;TZID=Europe/Berlin:20260603T181500
DTEND;TZID=Europe/Berlin:20260603T181500
DTSTAMP:20260421T102043
CREATED:20260224T212247Z
LAST-MODIFIED:20260224T212247Z
UID:2147-1780510500-1780510500@bosenheim.de
SUMMARY:Spieleabend für Erwachsene im Gemeindehaus
DESCRIPTION:
URL:https://bosenheim.de/event/spieleabend-fuer-erwachsene-im-gemeindehaus-7/
LOCATION:Gemeindehaus Bosenheim\, Raiffeisenstraße 1\, Bad Kreuznach\, 55545\, Deutschland
CATEGORIES:Gemeinschaft
END:VEVENT
BEGIN:VEVENT
DTSTART;TZID=Europe/Berlin:20260606T100000
DTEND;TZID=Europe/Berlin:20260606T100000
DTSTAMP:20260421T102043
CREATED:20260420T145153Z
LAST-MODIFIED:20260420T145518Z
UID:2344-1780740000-1780740000@bosenheim.de
SUMMARY:Eltern-Kind-Yoga mit Kathrin
DESCRIPTION:Yoga Yippie Yeah!\nAuf der großen Schwimmbadwiese in Bosenheim \n\nGemeinsam innehalten\, lachen und durchatmen – der Eltern-Kind-Yoga-Workshop mit Kathrin lädt ein zu einer echten Auszeit für Groß und Klein. Auf der wunderschönen Schwimmbadwiese erkunden Kinder und ihre Eltern gemeinsam\, was der eigene Körper alles kann: Gleichgewicht\, Kraft\, Entspannung und ganz viel Spaß beim Ausprobieren. \nKathrin bringt mit ihrem Angebot „Yoga Yippie Yeah!“ eine spielerische und herzliche Atmosphäre\, in der keine Vorkenntnisse nötig sind. Einfach ankommen\, Matte ausrollen und loslegen! \n\n\nReserviert euren Platz über: hallo@yogayippieyeah.de \n📅 Datum: Samstag\, 06. Juni 2026\n🕙 Uhrzeit: 10:00 Uhr\n📍 Ort: Bosenheimer Schwimmbadgelände\n💶 Preis: 10 € (1 Kind + 1 Elternteil)\, Jedes weitere Kind +5 €\n👶 Zielgruppe: Eltern mit Kindern\n🎒 Mitbringen: Eigene Yogamatte
URL:https://bosenheim.de/event/eltern-kind-yoga-mit-kathrin/
LOCATION:Schwimmbad Bosenheim\, Am Sportfeld 5\, Bad Kreuznach\, Rheinland-Pfalz\, 55545
END:VEVENT
BEGIN:VEVENT
DTSTART;TZID=Europe/Berlin:20260607T140000
DTEND;TZID=Europe/Berlin:20260607T140000
DTSTAMP:20260421T102043
CREATED:20260224T212215Z
LAST-MODIFIED:20260224T212215Z
UID:2148-1780840800-1780840800@bosenheim.de
SUMMARY:Kirchgartenfest
DESCRIPTION:
URL:https://bosenheim.de/event/kirchgartenfest/
LOCATION:Martinskirche\, Karl-Sack-Straße 4\, Bad Kreuznach\, 55545
CATEGORIES:Kirche
END:VEVENT
BEGIN:VEVENT
DTSTART;TZID=Europe/Berlin:20260617T150000
DTEND;TZID=Europe/Berlin:20260617T150000
DTSTAMP:20260421T102043
CREATED:20260224T212131Z
LAST-MODIFIED:20260224T212131Z
UID:2149-1781708400-1781708400@bosenheim.de
SUMMARY:Dorfcafé im TuS Häuschen
DESCRIPTION:
URL:https://bosenheim.de/event/dorfcafe-im-tus-haeuschen-14/
LOCATION:TuS-Heim\, Bosenheim\, 55545
CATEGORIES:Gemeinschaft
END:VEVENT
BEGIN:VEVENT
DTSTART;TZID=Europe/Berlin:20260619T180000
DTEND;TZID=Europe/Berlin:20260619T180000
DTSTAMP:20260421T102043
CREATED:20260224T212121Z
LAST-MODIFIED:20260224T212121Z
UID:2150-1781892000-1781892000@bosenheim.de
SUMMARY:Warm-Up Dorffest
DESCRIPTION:
URL:https://bosenheim.de/event/warm-up-dorffest/
LOCATION:Schulhof Bosenheim\, Hackenheimer Str. 2\, Bad Kreuznach\, 55545\, Deutschland
CATEGORIES:Fest
END:VEVENT
BEGIN:VEVENT
DTSTART;TZID=Europe/Berlin:20260620T160000
DTEND;TZID=Europe/Berlin:20260620T160000
DTSTAMP:20260421T102043
CREATED:20260224T212058Z
LAST-MODIFIED:20260224T212058Z
UID:2151-1781971200-1781971200@bosenheim.de
SUMMARY:Dorfgemeinschaftsfest im Schulhof
DESCRIPTION:
URL:https://bosenheim.de/event/dorfgemeinschaftsfest-im-schulhof-3/
LOCATION:Schulhof Bosenheim\, Hackenheimer Str. 2\, Bad Kreuznach\, 55545\, Deutschland
CATEGORIES:Fest
END:VEVENT
BEGIN:VEVENT
DTSTART;TZID=Europe/Berlin:20260621T090000
DTEND;TZID=Europe/Berlin:20260621T090000
DTSTAMP:20260421T102043
CREATED:20260224T212036Z
LAST-MODIFIED:20260224T212036Z
UID:2152-1782032400-1782032400@bosenheim.de
SUMMARY:Dorfgemeinschaftsfest im Schulhof
DESCRIPTION:
URL:https://bosenheim.de/event/dorfgemeinschaftsfest-im-schulhof-2/
LOCATION:Schulhof Bosenheim\, Hackenheimer Str. 2\, Bad Kreuznach\, 55545\, Deutschland
CATEGORIES:Fest
END:VEVENT
BEGIN:VEVENT
DTSTART;TZID=Europe/Berlin:20260624T170000
DTEND;TZID=Europe/Berlin:20260624T170000
DTSTAMP:20260421T102043
CREATED:20260224T211951Z
LAST-MODIFIED:20260224T211951Z
UID:2153-1782320400-1782320400@bosenheim.de
SUMMARY:Feierabendschoppen im Weingut Sitzius
DESCRIPTION:
URL:https://bosenheim.de/event/feierabendschoppen-im-weingut-sitzius/
LOCATION:Weingut Sitzius\, Kirchberg 1\, Bad Kreuznach\, 55545\, Deutschland
CATEGORIES:Gemeinschaft
END:VEVENT
BEGIN:VEVENT
DTSTART;TZID=Europe/Berlin:20260627T100000
DTEND;TZID=Europe/Berlin:20260627T130000
DTSTAMP:20260421T102043
CREATED:20260420T150112Z
LAST-MODIFIED:20260421T055910Z
UID:2351-1782554400-1782565200@bosenheim.de
SUMMARY:Bärenstark mit Marcel
DESCRIPTION:Bärenstark fürs Leben\nBosenheimer Schwimmbadgelände\n\nKinder\, die wissen\, wie sie sich behaupten können\, sind selbstbewusster\, glücklicher und sicherer. Der Kinder Selbstbehauptungs-Workshop „Bärenstark mit Marcel“ vermittelt auf spielerische\, altersgerechte Weise die wichtigsten Grundlagen für ein starkes Auftreten im Alltag.\n\nMarcel trainiert mit den Kindern (6–11 Jahre)\, wie sie Grenzen setzen\, Nein sagen\, gewaltfrei kommunizieren und in herausfordernden Situationen mutig bleiben. Das Programm verbindet Sozialkompetenz\, Selbstbewusstsein und Anti-Mobbing zu einem einzigartigen Erlebnis – kurzweilig\, motivierend und nachhaltig. \n\n\n\n\n📅 Datum: Samstag\, 27. Juni 2026\n🕙 Uhrzeit: 10:00 – 13:00 Uhr\n📍 Ort: Bosenheimer Schwimmbadgelände\n💶 Preis: 10 € pro Kind\n👧👦 Alter: 6 bis 11 Jahre\n👟 Kleidung: Bitte Sportkleidung mitbringen\n\n\n\n💚 Der Förderverein unterstützt: 10 € pro Kind werden gesponsort – ihr zahlt nur den Eigenanteil! \n\n📩 Platz reservieren: baerenstark-fuers-leben@gmx.de
URL:https://bosenheim.de/event/baerenstark-mit-marcel/
LOCATION:Schwimmbad Bosenheim\, Am Sportfeld 5\, Bad Kreuznach\, Rheinland-Pfalz\, 55545
END:VEVENT
END:VCALENDAR